BEGIN:VCALENDAR
VERSION:2.0
PRODID:-//Scoala romaneasca Junimea din Montreal - ECPv6.15.20//NONSGML v1.0//EN
CALSCALE:GREGORIAN
METHOD:PUBLISH
X-ORIGINAL-URL:https://junimearomana.com
X-WR-CALDESC:Evenimente pentru Scoala romaneasca Junimea din Montreal
REFRESH-INTERVAL;VALUE=DURATION:PT1H
X-Robots-Tag:noindex
X-PUBLISHED-TTL:PT1H
BEGIN:VTIMEZONE
TZID:America/Toronto
BEGIN:DAYLIGHT
TZOFFSETFROM:-0500
TZOFFSETTO:-0400
TZNAME:EDT
DTSTART:20210314T070000
END:DAYLIGHT
BEGIN:STANDARD
TZOFFSETFROM:-0400
TZOFFSETTO:-0500
TZNAME:EST
DTSTART:20211107T060000
END:STANDARD
BEGIN:DAYLIGHT
TZOFFSETFROM:-0500
TZOFFSETTO:-0400
TZNAME:EDT
DTSTART:20220313T070000
END:DAYLIGHT
BEGIN:STANDARD
TZOFFSETFROM:-0400
TZOFFSETTO:-0500
TZNAME:EST
DTSTART:20221106T060000
END:STANDARD
BEGIN:DAYLIGHT
TZOFFSETFROM:-0500
TZOFFSETTO:-0400
TZNAME:EDT
DTSTART:20230312T070000
END:DAYLIGHT
BEGIN:STANDARD
TZOFFSETFROM:-0400
TZOFFSETTO:-0500
TZNAME:EST
DTSTART:20231105T060000
END:STANDARD
BEGIN:DAYLIGHT
TZOFFSETFROM:-0500
TZOFFSETTO:-0400
TZNAME:EDT
DTSTART:20240310T070000
END:DAYLIGHT
BEGIN:STANDARD
TZOFFSETFROM:-0400
TZOFFSETTO:-0500
TZNAME:EST
DTSTART:20241103T060000
END:STANDARD
BEGIN:DAYLIGHT
TZOFFSETFROM:-0500
TZOFFSETTO:-0400
TZNAME:EDT
DTSTART:20250309T070000
END:DAYLIGHT
BEGIN:STANDARD
TZOFFSETFROM:-0400
TZOFFSETTO:-0500
TZNAME:EST
DTSTART:20251102T060000
END:STANDARD
END:VTIMEZONE
BEGIN:VEVENT
DTSTART;TZID=America/Toronto:20240608T110000
DTEND;TZID=America/Toronto:20240608T110000
DTSTAMP:20260423T122157
CREATED:20230415T172535Z
LAST-MODIFIED:20240603T183249Z
UID:1468-1717844400-1717844400@junimearomana.com
SUMMARY:Gala MERITAS 2024
DESCRIPTION:JUNIMEA ROMÂNĂ ÎMPREUNĂ CU PARTENERII SĂI VĂ INVITĂ LA GALA MERITAS 2024 – Ediția a XIV-a\nCitius\, altius\, fortius! – Plus vite\, plus haut\, plus fort! – Mai repede\, mai sus\, mai puternic!\n\nEvenimentul va avea loc:\nSâmbătă\, 8 iunie  \nOra: 11:00 \nLocație:  Școala Junimea Română – Collège Brébeuf\, Sala La Chapelle\nAdresă: 5625\, avenue Decelles\, Montréal (QC)\,  H3T 1W4 \n\nIntrare gratuită / Parcare gratuită \n  \nÎN PROGRAM: \nMoment artistic.\nDezvăluirea premianților MERITAS\, care s-au remarcat prin rezultate deosebite în acest an școlar. \nSă continuăm împreună munca noastră importantă ce are drept misiune reușita școlară și personală a copiilor! \nSă ne întâlnim la ceas aniversar pentru a ne bucura împreună de performanța copiilor și tinerilor noștri. Este un prilej să conștientizăm cât de mult a contat și va conta solidaritatea noastră\, a tuturor celor preocupați de transmiterea valorilor românești și de educația de calitate. Veniți alături de noi! Avem ocazia să ne conjugăm cunoștintele\, experiența de viață\, energia\, eforturile pentru a îndruma tinerele generații în drumul lor spre devenire! \nSUSȚINEȚI UN CAMPION!\n\nVă invităm să parenați un campion pentru Gala Meritas 2024 : \n\n\n\n\nPremiu\nSuma totală\n$ CAD\nFaceți DON \nTel. 514 884-6530\nNumele premiantului*\n\n\nMERITAS performanță școlară 1\n100 $\n\n\n\n\nMERITAS performanță școlară 2\n100 $\n\n\n\n\nMERITAS performanță școlară 3\n100 $\n\n\n\n\nMERITAS AQJM**\nGrand champion (un premiu)\n100 $\n\n\n\n\nMERITAS AQJM** \nMențiune (două premii)\n100 $\n\n\n\n\nMERITAS Limba și cultura română\n(un premiu)\n100 $\n\n\n\n\nPerformanță șah\n(un premiu)\n100 $\n\n\n\n\nFinaliști AQJM** (19 premii)\nCertificat-cadou\nDacă aveți servicii/produse pentru copii\, vă invităm să oferiți certificate-cadou finaliștilor AQJM\nContactați-ne la communication@\njunimearomana.com\n\n\nPerseverență și efort\n(12 premii x 25$)\n300 $\n\nDonați orice sumă doriți\n\n\nStagiar implicat\n100 $\n\nDonați orice sumă doriți\n\n\nAdolescent implicat\n(7 premii x 50$)\n350 $\n\nDonați orice sumă doriți\n\n\nBenevol implicat\n(10 premii x 50$)\n550 $\n\nDonați orice sumă doriți\n\n\nCadouri de susținere pentru toți elevii\n3600$\n\nDonați orice sumă doriți\n\n\nBursă de studii Omnius\n1000$\n\n\n\n\nBursa « Cristina Țocu »\n\n\nDonați orice sumă doriți\n\n\nO bursă de studii la școala Junimea Română\n1130$\n\nDonați orice sumă doriți\n\n\n\n*Numele premianților MERITAS și PERFORMANȚĂ vor fi anunțate în cadrul Galei și ulterior publicate pe site.\n** Championnat International des Jeux Mathématiques AQJM \n\nSă parenați un campion înseamnă: \n\nsă sponsorizați premiul unui elev (sau mai multor)\nsă-i înmânați acest premiu în cadrul Galei (vă invităm cu drag)\nsă luați cuvântul și să fiți un exemplu de succes pentru toți copiii (dacă doriți)\nsă contribuiți la susținerea educației de calitate\n\nGALA MERITAS reprezintă un reper memorabil și prețios pentru toți elevii care iată\, sunt onorați pentru eforturile lor de pe parcursul anului școlar 2023-2024. Lupta împotriva abandonului școlar și coeziunea noastră de dragul copiilor le vor da acestora șansa de a fi sprijiniți concret ca să își ia zborul către orizontul vast al cunoașterii. Fiecare gest și prezența contează\, iar copiii de azi vor fi adulții de mâine\, ce vor duce mesajele și eforturile noastre mai departe\, către viitor. \nMotto-ul nostru de anul acesta este îndemnul «Ad augusta per angusta. Vers le grand à travers l’étroit. La rezultate strălucite se ajunge pe căi înguste\, trudnice.»\, ce poarta încărcătură simbolică deosebită. \n\nOMNIUS susține campionii junimiști!\nClick AICI pentru a susține un campion.\n\n \n  \nPartenerul nostru OMNIUS GROUP acordă o BURSĂ DE STUDII de 1 000 $ pentru elevul sau eleva care va obține cele mai bune rezultate în timpul anului școlar 2023-2024! \n \nMulțumim OMNIUS GROUP pentru că investiți în viitorul copiilor ! \nPrioritatea noastră trebuie să fie lupta împotriva abandonului școlar și dezvoltarea tinerilor. \n„Omul a dorit din totdeauna sa cunoască și să știe. De aceea importanța cunoașterii în contextul societății noastre trebuie să dețină un nivel superior. Atunci când deții informația\, deții puterea. Atunci când descoperi o carte bună\, vrei nu vrei devii „prizonierul” ei și începi să îi cunoști tainele. Uneori sesizăm că avem o comoară care nu are preț la nici o casă de licitație din lume: cunoștințele noastre\, cultura noastră generală\, acestea sunt nestematele cele mai prețioase din toate timpurile. Prin învățătură sufletul tău\, mintea ta devin un seif plin de comori. Descoperi orizonturi neatinse încă de ochii tăi\, dar\, după ce începi să studiezi\, ai puterea de a vedea ce se petrece și după zările necunoscutului.” \nImnul  studenților din secolul al XIII-lea: \nGaudeamus igitur / iuvenes dum sumus! \n(Să ne bucurăm\, așadar\, Cât încă suntem tineri !) \nTrăiască școala!\nTrăiască profesorii!\nTrăiască fiecare-ntrebător!\nTrăiască fiecare-ntrebătoare! \nFie ca ei să-nflorească de-a pururi!\nTrăiască patria\nȘi cei ce-o conduc!\nTrăiască-ne orașul\nȘi binefăcătorii acestuia\nCare\, prin caritatea lor\, ne oferă siguranță! \nNumit mai simplu Gaudeamus\, reprezintă o adevarată odă a altruismului și a curajului de a continua pe această cale a dăruirii\, fiind recunoscut de asemenea și cu numele De brevitate vitae („Despre scurtimea vieții”). \nEntuziasmul de grup solidar\, ce molipsește pe oricine ne trece pragul\, dorim să îl propagăm și să îl sporim. Ne mândrim cu rezultate remarcabile la concursuri internaționale\, cu spectacole\, expoziții și campionate (de șah\, desene etc.); dar mai ales ne străduim să acordam timp și înțelegere fiecăruia în parte. Copiii sunt diferiți și trebuie să găsim înțelepciunea de a-i forma în funcție de ritmul propriu\, de sensibilități și aspirații; încurajăm mult comunicarea familie-școală\, iar pe baza acestei colaborări prin care copilul devine nucleul muncii noastre conjugate\, prin metode pedagogice potrivite și cu mult tact\, se trasează calea fiecăruia\, cu pasiuni utile și prieteni buni\, ce împărtașesc aceleași valori. Colaborăm cu asociații profesioniste (de exemplu Echecs et mats\, AQJM\, Kangourou en maths etc.) și susținem abordarea pedagogică incluzivă\, care încurajează reușita copiilor de a se autocunoaște și pune în valoare\, de a avea o atitudine constructivă\, de încredere și respect de sine. \nPentru a face o donație sunați-ne la 514 884-6530 sau donați prin intermediul PayPal. \n\n\nDin banii adunați vom cumpăra carduri Visa cu suma corespunzătoare premiilor indicate în tabelul de mai sus și le vom înmâna copiilor în cadrul Galei.\nNB! Dacă doriți ca numele dumneavoastră de donator să nu apară pe site\, vă rugăm să ne scrieți la communication@junimearomana.com . \nGALA MERITAS 2022 video AICI – Fotografii AICI\nGALA MERITAS 2021 – Montaj video AICI – Fotografii AICI\nGALA MERITAS 2020\n\nFOTO GALA MERITAS 2019\nVIDEO GALA MERITAS 2019\n\nHai să dăm mână cu mână ca să creștem împreună! \nJunimea Română\, din 2010 – Fondator și coordonator – Otilia Tunaru – Ordinul „Meritul pentru Învățământ” în grad de Cavaler pentru Școala Junimea. \n© Junimea Română 2024. Toate drepturile rezervate. Interzis să utilizați\, copiați\, distribuiți fără a preciza sursa. Credit fotografii : Sorin Grigorescu & echipa Junimea \n 
URL:https://junimearomana.com/event/gala-meritas-2024/
LOCATION:COLLEGE BREBEUF\, 5625\, avenue Decelles\, MONTREAL\, QUEBEC\, Canada
CATEGORIES:Gala Meritas,Gala Meritas 2024
ATTACH;FMTTYPE=image/jpeg:https://junimearomana.com/wp-content/uploads/2024/03/Gala-Meritas.jpg
ORGANIZER;CN="Scoala JunimeaRomana":MAILTO:contact@junimearomana.com
END:VEVENT
BEGIN:VEVENT
DTSTART;TZID=America/Toronto:20231111T110000
DTEND;TZID=America/Toronto:20231111T170000
DTSTAMP:20260423T122157
CREATED:20231111T214315Z
LAST-MODIFIED:20231027T153530Z
UID:2403-1699700400-1699722000@junimearomana.com
SUMMARY:Turneu de şah " Sf. Mc. Gheorghe" pentru copii si tineri - Sambata 11 noiembrie 2023\, - ediția a treia!
DESCRIPTION:Dragi părinți\,\n\n\n\n\n\n\n\n\n\n \nVă anunțăm cu mare bucurie ediția a treia a Turneului nostru de şah!!!\n\n \nAsa cum v-am obisnuit in ultimii doi ani\, Episcopia Ortodoxa Româna a Canadei impreuna cu Scoala Junimea si ziarul ZigZag Român-Canadian organizeaza doua turnee de şah pe an: primavara si toamna.\n \n\nCompetitia se adreseaza copiilor si tinerilor pasionati de şah cu varsta intre 6-25 ani si este organizata in data de 11 noiembrie\, incepand cu ora 11:00\, nivel intermediari si avansati\, respectiv ora 13:00 nivel debutanti (fara rating).\n\n \n\n\n\nLocul de desfasurare al turneului este la Catedrala Sf. Mare Mucenic Gheorghe din Saint-Hubert (2000 boul. Marie\, J4T 2S1). \nFiind sâmbăta\, INVITAM ŞAHIŞTI DIN TOATE REGIUNILE să participe! \nIn urma sugestiilor si raspunsurilor dumneavoastra la sondajul nostru din data de 7 iunie( https://forms.gle/jq5vX8fs7RGYcpHw5 ) editia a treia va avea un nou format:\n \n\n\n\n\n   – Turneul va incepe la ora 11 am doar pentru participantii inscrisi la nivelul intermediar (intre 1000-1300) sau avansat(peste 1300).\n \n   – Inregistrarea copiilor de la nivelul „Debutanti” se va face intr-o sala separata( intrarea pe usa din partea dreapta a intrarii principale in biserica) incepand cu ora 12:30.\n \n   – Va exista un loc rezervat pentru parintii care vor sa ramana\, separat de mesele jucatorilor\, unde accesul este permis doar arbitrilor.\n\n\n\nInscriere si regulament:\n\nPentru a participa la eveniment\, cei interesați trebuie sa se înscrie până la data de 3 noiembrie 2023\, trimitand mesaj email la adresa cezar.vitencu@gmail.com sau mesaj text la 514-463-1887. Veți primi confirmarea pentru înscrierea copilului/copiilor. \nMesajul de înscriere trebuie sa conțină numele și vârsta participantului\, ratingul(dacă este cazul) de pe unul din site-urile de sah online chesskid.com sau chess.com sau o autoevaluare a nivelului la care joacă șah: debutant (fără rating)\, intermediar (între 1000-1300) sau avansat(peste 1300).\nConcurenții vor juca împotriva altora cu rating similar. Dacă nu au un rating\, vor fi plasati in funcție de varsta. Pentru departajare\, concurentul trebuie sa stie sa faca şah-mat și sa stie diferenta dintre mat si pat.\nOrganizatorii îi încurajează pe participanti sa își aducă propriul joc de șah. De preferat\, jucătorii intermediari sau avansati sa aiba si ceas pentru şah sau o aplicație pe telefonul mobil.\nTurneul se va desfășura pe durata a 2-4 ore( in funcție de nivel). Premierea va avea loc la ora 4 pm!\nPartidele vor dura între 30-60 de minute (15-30 minute timp de gandire pentru fiecare jucător\, in funcție de nivel și numărul de participanți).\nConcurenții sunt defalcati in 3 grupe principale(debutanti\, intermediari si avansati). In cadrul acestor grupe se vor forma mai multe subgrupe in funcție de varsta concurentilor.\nFiecare concurent va juca minim 3 partide.\n\nVor fi premiați primii trei clasati din fiecare subgrupa! Toți copiii vor primi diplome de participare.\n\n\nIntrucât la ultima ediție costul achizitiei de cupe și materiale a depasit suma stransa din mici donații\, sugerăm o taxă de minim $10 pentru fiecare participant. Fiind o taxa opțională\, banii pot fi depuși într-o cutie rezervată donațiilor după înregistrarea copiilor.\n \nVa asteptam și la aceasta ediție in număr cat mai mare!\n \nDoamne ajuta!
URL:https://junimearomana.com/event/turneu-de-sah-sf-mc-gheorghe-pentru-copii-si-tineri-sambata-11-noiembrie-2023-editia-a-treia/
CATEGORIES:Competitii
END:VEVENT
BEGIN:VEVENT
DTSTART;TZID=America/Toronto:20230610T110000
DTEND;TZID=America/Toronto:20230610T110000
DTSTAMP:20260423T122157
CREATED:20230415T174526Z
LAST-MODIFIED:20230418T233515Z
UID:1473-1686394800-1686394800@junimearomana.com
SUMMARY:Gala MERITAS 2023
DESCRIPTION:JUNIMEA ROMÂNĂ ÎMPREUNĂ CU PARTENERII SĂI VĂ INVITĂ LA GALA MERITAS 2023 – Ediția a XIII-a\nPer aspera ad astra.\nPar des voies ardues jusqu’aux étoiles.\nThrough hardships to the stars.\nPe căi aspre către stele.\nExpresie în latină care apare în versul 437 al operei ‘’Hercule furios’’ de Seneca. Cu alte cuvinte: calea spre reușită este presărată cu greutăți și numai prin strădanii anevoioase (per aspera) se poate ajunge la izbândă\, la lumină (ad astra). \nEvenimentul va avea loc:\nSâmbătă\, 10 iunie  \nOra: 11:00 \nLocație:  Școala Junimea Română – Collège Brébeuf\, Pavilion Lalemant – Sala Mare (imediat la intrare pe partea dreaptă\, vis-à-vis de recepție)\nAdresă: 5625\, avenue Decelles\, Montréal (QC)\,  H3T 1W4 \nIntrare gratuită / Parcare gratuită \nÎN PROGRAM: \nMoment artistic.\nDezvăluirea premianților MERITAS\, care s-au remarcat prin rezultate deosebite în acest an școlar. \nSă continuăm împreună munca noastră importantă ce are drept misiune reușita școlară și personală a copiilor! \nSă ne întâlnim la ceas aniversar pentru a ne bucura împreună de performanța copiilor și tinerilor noștri. Este un prilej să conștientizăm cât de mult a contat și va conta solidaritatea noastră\, a tuturor celor preocupați de transmiterea valorilor românești și de educația de calitate. Veniți alături de noi! Avem ocazia să ne conjugăm cunoștintele\, experiența de viață\, energia\, eforturile pentru a îndruma tinerele generații în drumul lor spre devenire! \nSUSȚINEȚI UN CAMPION!\n\nVă invităm să parenați un campion pentru Gala Meritas 2023 : \n\n\n\n\nPremiu\nSuma totală\n$ CAD\nFaceți DON \nTel. 514 884-6530\nNumele premiantului*\n\n\nMERITAS performanță școlară 1\n100 $\n\n\n\n\nMERITAS performanță școlară 2\n100 $\n\n\n\n\nMERITAS performanță școlară 3\n100 $\n\n\n\n\nMERITAS AQJM**\nGrand champion (un premiu)\n100 $\n\n\n\n\nMERITAS AQJM** \nMențiune (două premii)\n100 $\n\n\n\n\nMERITAS Limba și cultura română\n(un premiu)\n100 $\n\n\n\n\nPerformanță șah\n(un premiu)\n100 $\n\n\n\n\nFinaliști AQJM** (19 premii)\nCertificat-cadou\nDacă aveți servicii/produse pentru copii\, vă invităm să oferiți certificate-cadou finaliștilor AQJM\nContactați-ne la communication@\njunimearomana.com\n\n\nPerseverență și efort\n(12 premii x 25$)\n300 $\n\nDonați orice sumă doriți\n\n\nStagiar implicat\n100 $\n\nDonați orice sumă doriți\n\n\nAdolescent implicat\n(7 premii x 50$)\n350 $\n\nDonați orice sumă doriți\n\n\nBenevol implicat\n(10 premii x 50$)\n550 $\n\nDonați orice sumă doriți\n\n\nCadouri de susținere pentru toți elevii\n3600$\n\nDonați orice sumă doriți\n\n\nBursă de studii Omnius\n1000$\n\n\n\n\nBursa « Cristina Țocu »\n\n\nDonați orice sumă doriți\n\n\nO bursă de studii la școala Junimea Română\n1130$\n\nDonați orice sumă doriți\n\n\n\n*Numele premianților MERITAS și PERFORMANȚĂ vor fi anunțate în cadrul Galei și ulterior publicate pe site.\n** Championnat International des Jeux Mathématiques AQJM \n\nSă parenați un campion înseamnă: \n\nsă sponsorizați premiul unui elev (sau mai multor)\nsă-i înmânați acest premiu în cadrul Galei (vă invităm cu drag)\nsă luați cuvântul și să fiți un exemplu de succes pentru toți copiii (dacă doriți)\nsă contribuiți la susținerea educației de calitate\n\nGALA MERITAS reprezintă un reper memorabil și prețios pentru toți elevii care iată\, sunt onorați pentru eforturile lor de pe parcursul anului școlar 2022-2023. Lupta împotriva abandonului școlar și coeziunea noastră de dragul copiilor le vor da acestora șansa de a fi sprijiniți concret ca să își ia zborul către orizontul vast al cunoașterii. Fiecare gest și prezența contează\, iar copiii de azi vor fi adulții de mâine\, ce vor duce mesajele și eforturile noastre mai departe\, către viitor. \nMotto-ul nostru de anul acesta este îndemnul « Per aspera ad astra./  Par des voies ardues jusqu’aux étoiles./  Through hardships to the stars./ Pe căi aspre către stele. »\, ce poarta încărcătură simbolică deosebită. \n\nOMNIUS susține campionii junimiști!\nClick AICI pentru a susține un campion.\n\n \n  \nPartenerul nostru OMNIUS GROUP acordă o BURSĂ DE STUDII de 1 000 $ pentru elevul sau eleva care va obține cele mai bune rezultate în timpul anului școlar 2022-2023! \n \nMulțumim OMNIUS GROUP pentru că investiți în viitorul copiilor !  \nPrioritatea noastră trebuie să fie lupta împotriva abandonului școlar și dezvoltarea tinerilor.  \n„Omul a dorit din totdeauna sa cunoască și să știe. De aceea importanța cunoașterii în contextul societății noastre trebuie să dețină un nivel superior. Atunci când deții informația\, deții puterea. Atunci când descoperi o carte bună\, vrei nu vrei devii „prizonierul” ei și începi să îi cunoști tainele. Uneori sesizăm că avem o comoară care nu are preț la nici o casă de licitație din lume: cunoștințele noastre\, cultura noastră generală\, acestea sunt nestematele cele mai prețioase din toate timpurile. Prin învățătură sufletul tău\, mintea ta devin un seif plin de comori. Descoperi orizonturi neatinse încă de ochii tăi\, dar\, după ce începi să studiezi\, ai puterea de a vedea ce se petrece și după zările necunoscutului.” \nImnul  studenților din secolul al XIII-lea: \nGaudeamus igitur / iuvenes dum sumus! \n(Să ne bucurăm\, așadar\, Cât încă suntem tineri !) \nTrăiască școala!\nTrăiască profesorii!\nTrăiască fiecare-ntrebător!\nTrăiască fiecare-ntrebătoare! \nFie ca ei să-nflorească de-a pururi!\nTrăiască patria\nȘi cei ce-o conduc!\nTrăiască-ne orașul\nȘi binefăcătorii acestuia\nCare\, prin caritatea lor\, ne oferă siguranță! \nNumit mai simplu Gaudeamus\, reprezintă o adevarată odă a altruismului și a curajului de a continua pe această cale a dăruirii\, fiind recunoscut de asemenea și cu numele De brevitate vitae („Despre scurtimea vieții”). \nEntuziasmul de grup solidar\, ce molipsește pe oricine ne trece pragul\, dorim să îl propagăm și să îl sporim. Ne mândrim cu rezultate remarcabile la concursuri internaționale\, cu spectacole\, expoziții și campionate (de șah\, desene etc.); dar mai ales ne străduim să acordam timp și înțelegere fiecăruia în parte. Copiii sunt diferiți și trebuie să găsim înțelepciunea de a-i forma în funcție de ritmul propriu\, de sensibilități și aspirații; încurajăm mult comunicarea familie-școală\, iar pe baza acestei colaborări prin care copilul devine nucleul muncii noastre conjugate\, prin metode pedagogice potrivite și cu mult tact\, se trasează calea fiecăruia\, cu pasiuni utile și prieteni buni\, ce împărtașesc aceleași valori. Colaborăm cu asociații profesioniste (de exemplu Echecs et mats\, AQJM\, Kangourou en maths etc.) și susținem abordarea pedagogică incluzivă\, care încurajează reușita copiilor de a se autocunoaște și pune în valoare\, de a avea o atitudine constructivă\, de încredere și respect de sine. \nPentru a face o donație sunați-ne la 514 884-6530 sau donați prin intermediul PayPal. \n\n\nDin banii adunați vom cumpăra carduri Visa cu suma corespunzătoare premiilor indicate în tabelul de mai sus și le vom înmâna copiilor în cadrul Galei.\nNB! Dacă doriți ca numele dumneavoastră de donator să nu apară pe site\, vă rugăm să ne scrieți la communication@junimearomana.com . \nGALA MERITAS 2022 video AICI – Fotografii AICI\nGALA MERITAS 2021 – Montaj video AICI – Fotografii AICI\nGALA MERITAS 2020\n\nFOTO GALA MERITAS 2019\nVIDEO GALA MERITAS 2019\nGALA MERITAS 2018\nFOTO GALA MÉRITAS 2018\n  \nHai să dăm mână cu mână ca să creștem împreună! \nJunimea Română\, din 2010 – Fondator și coordonator – Otilia Tunaru – Ordinul „Meritul pentru Învățământ” în grad de Cavaler pentru Școala Junimea. \n© Junimea Română 2023. Toate drepturile rezervate. Interzis să utilizați\, copiați\, distribuiți fără a preciza sursa. Credit fotografii : Sorin Grigorescu & echipa Junimea
URL:https://junimearomana.com/event/gala-meritas-2023/
LOCATION:Scoala JunimeaRomana\, 5625\, av. Decelles\, Montreal\, H3T1W4\, Canada
CATEGORIES:Gala Meritas,Gala Meritas 2023
ATTACH;FMTTYPE=image/jpeg:https://junimearomana.com/wp-content/uploads/2023/04/galameritas2023.jpg
ORGANIZER;CN="Scoala JunimeaRomana":MAILTO:contact@junimearomana.com
END:VEVENT
BEGIN:VEVENT
DTSTART;VALUE=DATE:20220416
DTEND;VALUE=DATE:20220417
DTSTAMP:20260423T122157
CREATED:20220416T120731Z
LAST-MODIFIED:20230503T000733Z
UID:1480-1650067200-1650153599@junimearomana.com
SUMMARY:Gala MERITAS 2022
DESCRIPTION:JUNIMEA ROMÂNĂ ÎMPREUNĂ CU PARTENERII SĂI VĂ INVITĂ LA GALA MERITAS 2024 – Ediția a XIV-a\nAd augusta per angusta. Vers les sommets par des chemins étroits .\nLa rezultate strălucite se ajunge pe căi înguste\, trudnice.\n\nEvenimentul va avea loc:\nSâmbătă\, 8 iunie  \nOra: 11:00 \nLocație:  Școala Junimea Română – Collège Brébeuf\, Pavilion Lalemant – Sala G1.62.72 (imediat la intrare pe partea dreaptă\, vis-à-vis de recepție)\nAdresă: 5625\, avenue Decelles\, Montréal (QC)\,  H3T 1W4Intrare gratuită / Parcare gratuită \nÎN PROGRAM: \nMoment artistic.\nDezvăluirea premianților MERITAS\, care s-au remarcat prin rezultate deosebite în acest an școlar. \nSă continuăm împreună munca noastră importantă ce are drept misiune reușita școlară și personală a copiilor! \nSă ne întâlnim la ceas aniversar pentru a ne bucura împreună de performanța copiilor și tinerilor noștri. Este un prilej să conștientizăm cât de mult a contat și va conta solidaritatea noastră\, a tuturor celor preocupați de transmiterea valorilor românești și de educația de calitate. Veniți alături de noi! Avem ocazia să ne conjugăm cunoștintele\, experiența de viață\, energia\, eforturile pentru a îndruma tinerele generații în drumul lor spre devenire! \nSUSȚINEȚI UN CAMPION!\n\nVă invităm să parenați un campion pentru Gala Meritas 2024 : \n\n\n\n\nPremiu\nSuma totală\n$ CAD\nFaceți DON \nTel. 514 884-6530\nNumele premiantului*\n\n\nMERITAS performanță școlară 1\n100 $\n\n\n\n\nMERITAS performanță școlară 2\n100 $\n\n\n\n\nMERITAS performanță școlară 3\n100 $\n\n\n\n\nMERITAS AQJM**\nGrand champion (un premiu)\n100 $\n\n\n\n\nMERITAS AQJM** \nMențiune (două premii)\n100 $\n\n\n\n\nMERITAS Limba și cultura română\n(un premiu)\n100 $\n\n\n\n\nPerformanță șah\n(un premiu)\n100 $\n\n\n\n\nFinaliști AQJM** (19 premii)\nCertificat-cadou\nDacă aveți servicii/produse pentru copii\, vă invităm să oferiți certificate-cadou finaliștilor AQJM\nContactați-ne la communication@\njunimearomana.com\n\n\nPerseverență și efort\n(12 premii x 25$)\n300 $\n\nDonați orice sumă doriți\n\n\nStagiar implicat\n100 $\n\nDonați orice sumă doriți\n\n\nAdolescent implicat\n(7 premii x 50$)\n350 $\n\nDonați orice sumă doriți\n\n\nBenevol implicat\n(10 premii x 50$)\n550 $\n\nDonați orice sumă doriți\n\n\nCadouri de susținere pentru toți elevii\n3600$\n\nDonați orice sumă doriți\n\n\nBursă de studii Omnius\n1000$\n\n\n\n\nBursa « Cristina Țocu »\n\n\nDonați orice sumă doriți\n\n\nO bursă de studii la școala Junimea Română\n1130$\n\nDonați orice sumă doriți\n\n\n\n*Numele premianților MERITAS și PERFORMANȚĂ vor fi anunțate în cadrul Galei și ulterior publicate pe site.\n** Championnat International des Jeux Mathématiques AQJM \n\nSă parenați un campion înseamnă: \n\nsă sponsorizați premiul unui elev (sau mai multor)\nsă-i înmânați acest premiu în cadrul Galei (vă invităm cu drag)\nsă luați cuvântul și să fiți un exemplu de succes pentru toți copiii (dacă doriți)\nsă contribuiți la susținerea educației de calitate\n\nGALA MERITAS reprezintă un reper memorabil și prețios pentru toți elevii care iată\, sunt onorați pentru eforturile lor de pe parcursul anului școlar 2023-2024. Lupta împotriva abandonului școlar și coeziunea noastră de dragul copiilor le vor da acestora șansa de a fi sprijiniți concret ca să își ia zborul către orizontul vast al cunoașterii. Fiecare gest și prezența contează\, iar copiii de azi vor fi adulții de mâine\, ce vor duce mesajele și eforturile noastre mai departe\, către viitor. \nMotto-ul nostru de anul acesta este îndemnul «Ad augusta per angusta. Vers le grand à travers l’étroit. La rezultate strălucite se ajunge pe căi înguste\, trudnice.»\, ce poarta încărcătură simbolică deosebită. \n\nOMNIUS susține campionii junimiști!\nClick AICI pentru a susține un campion.\n\n \n  \nPartenerul nostru OMNIUS GROUP acordă o BURSĂ DE STUDII de 1 000 $ pentru elevul sau eleva care va obține cele mai bune rezultate în timpul anului școlar 2023-2024! \n \nMulțumim OMNIUS GROUP pentru că investiți în viitorul copiilor ! \nPrioritatea noastră trebuie să fie lupta împotriva abandonului școlar și dezvoltarea tinerilor. \n„Omul a dorit din totdeauna sa cunoască și să știe. De aceea importanța cunoașterii în contextul societății noastre trebuie să dețină un nivel superior. Atunci când deții informația\, deții puterea. Atunci când descoperi o carte bună\, vrei nu vrei devii „prizonierul” ei și începi să îi cunoști tainele. Uneori sesizăm că avem o comoară care nu are preț la nici o casă de licitație din lume: cunoștințele noastre\, cultura noastră generală\, acestea sunt nestematele cele mai prețioase din toate timpurile. Prin învățătură sufletul tău\, mintea ta devin un seif plin de comori. Descoperi orizonturi neatinse încă de ochii tăi\, dar\, după ce începi să studiezi\, ai puterea de a vedea ce se petrece și după zările necunoscutului.” \nImnul  studenților din secolul al XIII-lea: \nGaudeamus igitur / iuvenes dum sumus! \n(Să ne bucurăm\, așadar\, Cât încă suntem tineri !) \nTrăiască școala!\nTrăiască profesorii!\nTrăiască fiecare-ntrebător!\nTrăiască fiecare-ntrebătoare! \nFie ca ei să-nflorească de-a pururi!\nTrăiască patria\nȘi cei ce-o conduc!\nTrăiască-ne orașul\nȘi binefăcătorii acestuia\nCare\, prin caritatea lor\, ne oferă siguranță! \nNumit mai simplu Gaudeamus\, reprezintă o adevarată odă a altruismului și a curajului de a continua pe această cale a dăruirii\, fiind recunoscut de asemenea și cu numele De brevitate vitae („Despre scurtimea vieții”). \nEntuziasmul de grup solidar\, ce molipsește pe oricine ne trece pragul\, dorim să îl propagăm și să îl sporim. Ne mândrim cu rezultate remarcabile la concursuri internaționale\, cu spectacole\, expoziții și campionate (de șah\, desene etc.); dar mai ales ne străduim să acordam timp și înțelegere fiecăruia în parte. Copiii sunt diferiți și trebuie să găsim înțelepciunea de a-i forma în funcție de ritmul propriu\, de sensibilități și aspirații; încurajăm mult comunicarea familie-școală\, iar pe baza acestei colaborări prin care copilul devine nucleul muncii noastre conjugate\, prin metode pedagogice potrivite și cu mult tact\, se trasează calea fiecăruia\, cu pasiuni utile și prieteni buni\, ce împărtașesc aceleași valori. Colaborăm cu asociații profesioniste (de exemplu Echecs et mats\, AQJM\, Kangourou en maths etc.) și susținem abordarea pedagogică incluzivă\, care încurajează reușita copiilor de a se autocunoaște și pune în valoare\, de a avea o atitudine constructivă\, de încredere și respect de sine. \nPentru a face o donație sunați-ne la 514 884-6530 sau donați prin intermediul PayPal. \n\n\nDin banii adunați vom cumpăra carduri Visa cu suma corespunzătoare premiilor indicate în tabelul de mai sus și le vom înmâna copiilor în cadrul Galei.\nNB! Dacă doriți ca numele dumneavoastră de donator să nu apară pe site\, vă rugăm să ne scrieți la communication@junimearomana.com . \nGALA MERITAS 2022 video AICI – Fotografii AICI\nGALA MERITAS 2021 – Montaj video AICI – Fotografii AICI\nGALA MERITAS 2020\n\nFOTO GALA MERITAS 2019\nVIDEO GALA MERITAS 2019\n\nHai să dăm mână cu mână ca să creștem împreună! \nJunimea Română\, din 2010 – Fondator și coordonator – Otilia Tunaru – Ordinul „Meritul pentru Învățământ” în grad de Cavaler pentru Școala Junimea. \n© Junimea Română 2024. Toate drepturile rezervate. Interzis să utilizați\, copiați\, distribuiți fără a preciza sursa. Credit fotografii : Sorin Grigorescu & echipa Junimea \n 
URL:https://junimearomana.com/event/gala-meritas-2022/
LOCATION:Scoala JunimeaRomana\, 5625\, av. Decelles\, Montreal\, H3T1W4\, Canada
CATEGORIES:Gala Meritas,Gala Meritas 2022
ORGANIZER;CN="Scoala JunimeaRomana":MAILTO:contact@junimearomana.com
END:VEVENT
END:VCALENDAR